BEGIN:VCALENDAR
VERSION:2.0
PRODID:-//Kantonale Offiziersgesellschaft Thurgau - ECPv6.15.18//NONSGML v1.0//EN
CALSCALE:GREGORIAN
METHOD:PUBLISH
X-WR-CALNAME:Kantonale Offiziersgesellschaft Thurgau
X-ORIGINAL-URL:https://www.ogbodensee.ch
X-WR-CALDESC:Veranstaltungen für Kantonale Offiziersgesellschaft Thurgau
REFRESH-INTERVAL;VALUE=DURATION:PT1H
X-Robots-Tag:noindex
X-PUBLISHED-TTL:PT1H
BEGIN:VTIMEZONE
TZID:Europe/Helsinki
BEGIN:DAYLIGHT
TZOFFSETFROM:+0200
TZOFFSETTO:+0300
TZNAME:EEST
DTSTART:20250330T010000
END:DAYLIGHT
BEGIN:STANDARD
TZOFFSETFROM:+0300
TZOFFSETTO:+0200
TZNAME:EET
DTSTART:20251026T010000
END:STANDARD
BEGIN:DAYLIGHT
TZOFFSETFROM:+0200
TZOFFSETTO:+0300
TZNAME:EEST
DTSTART:20260329T010000
END:DAYLIGHT
BEGIN:STANDARD
TZOFFSETFROM:+0300
TZOFFSETTO:+0200
TZNAME:EET
DTSTART:20261025T010000
END:STANDARD
BEGIN:DAYLIGHT
TZOFFSETFROM:+0200
TZOFFSETTO:+0300
TZNAME:EEST
DTSTART:20270328T010000
END:DAYLIGHT
BEGIN:STANDARD
TZOFFSETFROM:+0300
TZOFFSETTO:+0200
TZNAME:EET
DTSTART:20271031T010000
END:STANDARD
END:VTIMEZONE
BEGIN:VEVENT
DTSTART;VALUE=DATE:20260509
DTEND;VALUE=DATE:20260510
DTSTAMP:20260422T072321
CREATED:20260410T101301Z
LAST-MODIFIED:20260414T183047Z
UID:4565-1778284800-1778371199@www.ogbodensee.ch
SUMMARY:Marschtraining Hörnli\, 9. Mai 2026
DESCRIPTION:Treffpunkt: Sa\, 9. Mai 2026\, 0700 (Abmarsch)\nStao: Markplatz Frauenfeld\, bei der Haltestelle Wilerbähnli\nRoute: https://schweizmobil.ch/de/tour/499921401\nGeschätzte Marschzeit: Ca. 9h (Mittagspause mit einberechnet)\nDistanz: Knapp 30km\nPausen: Eine längere Mittagsrast von 30min zur Halbzeit\, ansonsten jeweils kurze Marschhalte für Retablierung / Trinkpausen\nAnkunft Hörnli Gipfel: Ca. 1600\, kurzes Verweilen (je nach Verlauf Marsch länger oder kürzer)\nHeimweg: Abstieg via Althörnli – Steg (nochmals ca. 1h Marschzeit)\, S26 ab Steg um 1701\, Umsteigen in Winterthur\, Frauenfeld an 1812\nAusrüstung: Genug Wasser und Zwipf für die Marschdauer und -distanz. Keine Ladenbesuche unterwegs möglich. Über Brunnen entlang der Marschroute liegen keine Informationen vor. Der Witterung angepasste Kleidung – marschiert wird bei jeder Witterung\nAnmeldung: Bis spätestens Samstag\, 2. Mai 2026\, 1200\, an julian.thorner@milweb.ch
URL:https://www.ogbodensee.ch/event/marschtraining-hoernli-9-mai-2026/
CATEGORIES:OG Frauenfeld
ATTACH;FMTTYPE=image/jpeg:https://www.ogbodensee.ch/wp-content/uploads/2026/04/Marschtraining-hoernli.jpg
END:VEVENT
BEGIN:VEVENT
DTSTART;VALUE=DATE:20260711
DTEND;VALUE=DATE:20260712
DTSTAMP:20260422T072321
CREATED:20260410T101933Z
LAST-MODIFIED:20260410T102047Z
UID:4572-1783728000-1783814399@www.ogbodensee.ch
SUMMARY:Letzte Airshow mit der Patrouille Suisse\, 11.7.2026
DESCRIPTION:Ort: Flugplatz Grenchen \nDauer: gem beso Bf \nLeitung: Hptm Raphael Rohner \nAblauf: Gemeinsame Anreise zu Treffpunkt (Informationen gem beso Bf)\, Show der Patrouille Suisse\, gemeinsamer Apéro \nTenue: zivil \nAnmeldung: Bis Sa\, 27.06.2026 (mit Name\, Vorname\, Gästezahl) an raphael.rohner@ogbodensee.ch oder via OGB App
URL:https://www.ogbodensee.ch/event/letzte-airshow-mit-der-patrouille-suisse-11-7-2026/
CATEGORIES:OG Bodensee
ATTACH;FMTTYPE=image/jpeg:https://www.ogbodensee.ch/wp-content/uploads/2026/04/Patr-Suisse.jpg
END:VEVENT
BEGIN:VEVENT
DTSTART;TZID=Europe/Helsinki:20260919T150000
DTEND;TZID=Europe/Helsinki:20260919T220000
DTSTAMP:20260422T072321
CREATED:20250912T154902Z
LAST-MODIFIED:20260420T054458Z
UID:4375-1789830000-1789855200@www.ogbodensee.ch
SUMMARY:Save the Date: 200 Jahre KOG Thurgau
DESCRIPTION:Am 19. September 2026 feiert die Kantonale Offiziersgesellschaft Thurgau ihr 200-Jahre Jubiläum. \nBitte reservieren Sie sich bereits jetzt dieses Datum. \nDie Kantonale Offiziersgesellschaft Thurgau (KOG TG) feiert im Jahr 2026 ihr 200-jähriges Bestehen. Dieses besondere Jubiläum wird am Samstag\, 19. September 2026\, mit einer würdigen Feier begangen.\nDie Jubiläumsveranstaltung findet auf dem Schloss Wolfsberg oberhalb von Ermatingen statt und umfasst unter anderem einen Apéro im Schlossgarten\, ein Konzert\, Salutschüsse\, Festansprachen sowie die ordentliche Generalversammlung. Den Abschluss bildet ein würdiges Bankett und Schlummertrunk. \nSave-the-date als PDF \nLink zur Anmeldung \nKalender-Datei \n  \n \nWir danken unseren Sponsoren ganz herzlich für ihre Unterstützung. Ihr Beitrag ermöglicht es uns\, am 19.09.2026 eine würdige Jubiläumsfeier unserer Offiziersgesellschaft durchführen zu können. Bitte berücksichtigen Sie unsere Sponsoren wenn immer möglich.
URL:https://www.ogbodensee.ch/event/save-the-date-200-jahre-kog-thurgau/
CATEGORIES:KOG Thurgau
ATTACH;FMTTYPE=image/png:https://www.ogbodensee.ch/wp-content/uploads/2025/09/KOG_Logo_2024_Beitragsbild_2.png
ORGANIZER;CN="Oberst Valentin Hasler":MAILTO:praesident@kogtg.ch
END:VEVENT
END:VCALENDAR